﻿BEGIN:VCALENDAR
VERSION:2.0
PRODID:-//ical.marudot.com//iCal Event Maker
CALSCALE:GREGORIAN
BEGIN:VTIMEZONE
TZID:Europe/Berlin
LAST-MODIFIED:20240422T053451Z
TZURL:https://www.tzurl.org/zoneinfo-outlook/Europe/Berlin
X-LIC-LOCATION:Europe/Berlin
BEGIN:DAYLIGHT
TZNAME:CEST
TZOFFSETFROM:+0100
TZOFFSETTO:+0200
DTSTART:19700329T020000
RRULE:FREQ=YEARLY;BYMONTH=3;BYDAY=-1SU
END:DAYLIGHT
BEGIN:STANDARD
TZNAME:CET
TZOFFSETFROM:+0200
TZOFFSETTO:+0100
DTSTART:19701025T030000
RRULE:FREQ=YEARLY;BYMONTH=10;BYDAY=-1SU
END:STANDARD
END:VTIMEZONE
BEGIN:VEVENT
DTSTAMP:20260408T071211Z
UID:1745997065085-26499@ical.marudot.com
DTSTART;TZID=Europe/Berlin:20260609T143000
DTEND;TZID=Europe/Berlin:20260609T150000
SUMMARY:Initiative Rückenwind für Innovation 
DESCRIPTION:Initiative Rückenwind für Innovation \n\nTag und Zeit: 09.06.2026 / 14:30 - 15:00 Uhr\nPlattform: Webex\n\nhttps://innovationstag-mittelstand-bmwe.de/webinare \n\nhttps://aifprojekt.webex.com/aifprojekt-de/j.php?MTID=m3af268a2026cc295aa61dd8debfa7c33 \n
END:VEVENT
END:VCALENDAR